BEGIN:VCALENDAR
VERSION:2.0
METHOD:PUBLISH
PRODID:-//www.semoevents.com//Events Calendar//EN
BEGIN:VEVENT
DTSTART:20260428T220000Z
DTEND:20260429T000000Z
SUMMARY:Archery: Open Archery for Beginners
LOCATION:Cape Girardeau Conservation Nature Center, 2289 County Park Drive, Cape Girardeau, MO
UID:29380-2026-04-28@www.semoevents.com
DESCRIPTION:Have you ever wanted to try your hand at archery but haven’t had the chance? Maybe you tried it out as a kid at summer camp but haven’t picked up a bow since. Here’s your chance to learn the basics of shooting a compound bow alongside other beginners interested in learning this new skill. We’ll discuss bow mechanics and safety before we give you the opportunity to practice your aim.
END:VEVENT
BEGIN:VEVENT
DTSTART:20260519T220000Z
DTEND:20260520T000000Z
SUMMARY:Archery: Open Archery for Beginners
LOCATION:Cape Girardeau Conservation Nature Center, 2289 County Park Drive, Cape Girardeau, MO
UID:29380-2026-05-19@www.semoevents.com
DESCRIPTION:Have you ever wanted to try your hand at archery but haven’t had the chance? Maybe you tried it out as a kid at summer camp but haven’t picked up a bow since. Here’s your chance to learn the basics of shooting a compound bow alongside other beginners interested in learning this new skill. We’ll discuss bow mechanics and safety before we give you the opportunity to practice your aim.
END:VEVENT
BEGIN:VEVENT
DTSTART:20260609T150000Z
DTEND:20260609T170000Z
SUMMARY:Archery: Open Archery for Beginners
LOCATION:Cape Girardeau Conservation Nature Center, 2289 County Park Drive, Cape Girardeau, MO
UID:29380-2026-06-09@www.semoevents.com
DESCRIPTION:Have you ever wanted to try your hand at archery but haven’t had the chance? Maybe you tried it out as a kid at summer camp but haven’t picked up a bow since. Here’s your chance to learn the basics of shooting a compound bow alongside other beginners interested in learning this new skill. We’ll discuss bow mechanics and safety before we give you the opportunity to practice your aim.
END:VEVENT
END:VCALENDAR
