BEGIN:VCALENDAR
VERSION:2.0
METHOD:PUBLISH
PRODID:-//www.semoevents.com//Events Calendar//EN
BEGIN:VEVENT
DTSTART:20260508T140000Z
DTEND:20260508T200000Z
SUMMARY:Freeform Baskets (2 options)
LOCATION:Cape Girardeau Conservation Nature Center, 2289 County Park Drive, Cape Girardeau, MO
UID:29384-2026-05-08@www.semoevents.com
DESCRIPTION:Registration period: April 24 - May 7 Connect with the past and enjoy the accomplishment of making your own version of an Appalachian egg or melon basket. We'll take turns at the difficult work of stripping a hickory tree to harvest the inner bark and cambium layers that were traditionally used to make the weaving reed. Then we'll shift to using rattan reed to create our own baskets. All necessary supplies will be provided. You are welcome to bring snacks and lunch or take a break at any point. NOTE: Only those registered may attend program. Participants must have adequate hand strength and dexterity to manipulate the reed and use clippers or garden shears.
END:VEVENT
BEGIN:VEVENT
DTSTART:20260509T140000Z
DTEND:20260509T200000Z
SUMMARY:Freeform Baskets (2 options)
LOCATION:Cape Girardeau Conservation Nature Center, 2289 County Park Drive, Cape Girardeau, MO
UID:29384-2026-05-09@www.semoevents.com
DESCRIPTION:Registration period: April 24 - May 7 Connect with the past and enjoy the accomplishment of making your own version of an Appalachian egg or melon basket. We'll take turns at the difficult work of stripping a hickory tree to harvest the inner bark and cambium layers that were traditionally used to make the weaving reed. Then we'll shift to using rattan reed to create our own baskets. All necessary supplies will be provided. You are welcome to bring snacks and lunch or take a break at any point. NOTE: Only those registered may attend program. Participants must have adequate hand strength and dexterity to manipulate the reed and use clippers or garden shears.
END:VEVENT
END:VCALENDAR
