BEGIN:VCALENDAR
VERSION:2.0
METHOD:PUBLISH
PRODID:-//www.semoevents.com//Events Calendar//EN
BEGIN:VEVENT
DTSTART:20260519T110000Z
DTEND:20260520T010000Z
SUMMARY:****SUMMER YOUTH PLAY AUDITIONS**** Summer One-Acts:  Paws, Claws, and the Laws
LOCATION:R.A.D. Studios, 235 Broadway St., Cape Girardeau, MO 63701
UID:29402-2026-05-19@www.semoevents.com
DESCRIPTION:*****SUMMER YOUTH PLAY AUDITIONS***** -Note: you do not have to attend both days- Calling all Actors ages 8-18! May 19th & 21st at 235 Broadway (within First Presbyterian Church - Enter through the office door) at 6:00pm! For more info, click here: https://bit.ly/m/RADStudioscape If you have questions, reach out to us through messenger and ask for the directors, Ashley Harty and Matt Antill.   SUMMER ONE-ACTS:  PAWS, CLAWS, AND THE LAWS "Big Bad" by Alec Strum "...The most notorious criminal in the fairy-tale world, Big Bad Wolf, is being slapped with a class-action lawsuit by the countless quirky characters he has wronged.  Now, the two greatest legal minds in the Enchanted Forest — the Evil Stepmother and the Fairy Godmother — will clash...in a trial that will be remembered forever after.  As Little Red Riding Hood, her Grandmother, the Three Little Pigs and the Shepherd in charge of the Boy Who Cried Wolf testify, the wolf seems deserving of all that’s coming...Was he born a criminal, or made one?  Perhaps he does deserve compassion instead of condemnation?  What will the verdict be?..." "Big Bad" is produced by special arrangement with Pioneer Drama Service, INC., Denver Colorado. "The Hound of the Baskervilles" adapted by Jon Jory from the story by Arthur Conan Doyle "...When the body of Sir Charles Baskerville is found dead on the moors, surrounded by the footprints of a gigantic hound, his friend Dr. Jenna Mortimer fears an old family legend has returned to terrorize the countryside. Concerned for the safety of the heir to the Baskerville estate, Mortimer enlists the help of famous sleuths Holmes and Watson to uncover the truth. With an escaped convict on the loose and suspicious neighbors lurking around Baskerville Hall, Holmes and Watson must race to solve the mystery before the hound can strike again." "The Hound of the Baskervilles" is produced by special arrangement with Stage Partners. (www.yourstagepartners.com) Again, thank you to all our sponsors for this year! If you own a local business and would like to learn about the perks and privileges of becoming a sponsor and how to become a sponsor, please message us at any time! Please support all our season Producers and Sponsors: Platinum Producers: Davis/Greenwalt Farms Gold Sponsors: Silver Sponsors: Bronze Sponsors: Special Thanks: First Presbyterian Church of Cape Girardeau Christ Church  River City 3D Prints
END:VEVENT
BEGIN:VEVENT
DTSTART:20260521T110000Z
DTEND:20260522T010000Z
SUMMARY:****SUMMER YOUTH PLAY AUDITIONS**** Summer One-Acts:  Paws, Claws, and the Laws
LOCATION:R.A.D. Studios, 235 Broadway St., Cape Girardeau, MO 63701
UID:29402-2026-05-21@www.semoevents.com
DESCRIPTION:*****SUMMER YOUTH PLAY AUDITIONS***** -Note: you do not have to attend both days- Calling all Actors ages 8-18! May 19th & 21st at 235 Broadway (within First Presbyterian Church - Enter through the office door) at 6:00pm! For more info, click here: https://bit.ly/m/RADStudioscape If you have questions, reach out to us through messenger and ask for the directors, Ashley Harty and Matt Antill.   SUMMER ONE-ACTS:  PAWS, CLAWS, AND THE LAWS "Big Bad" by Alec Strum "...The most notorious criminal in the fairy-tale world, Big Bad Wolf, is being slapped with a class-action lawsuit by the countless quirky characters he has wronged.  Now, the two greatest legal minds in the Enchanted Forest — the Evil Stepmother and the Fairy Godmother — will clash...in a trial that will be remembered forever after.  As Little Red Riding Hood, her Grandmother, the Three Little Pigs and the Shepherd in charge of the Boy Who Cried Wolf testify, the wolf seems deserving of all that’s coming...Was he born a criminal, or made one?  Perhaps he does deserve compassion instead of condemnation?  What will the verdict be?..." "Big Bad" is produced by special arrangement with Pioneer Drama Service, INC., Denver Colorado. "The Hound of the Baskervilles" adapted by Jon Jory from the story by Arthur Conan Doyle "...When the body of Sir Charles Baskerville is found dead on the moors, surrounded by the footprints of a gigantic hound, his friend Dr. Jenna Mortimer fears an old family legend has returned to terrorize the countryside. Concerned for the safety of the heir to the Baskerville estate, Mortimer enlists the help of famous sleuths Holmes and Watson to uncover the truth. With an escaped convict on the loose and suspicious neighbors lurking around Baskerville Hall, Holmes and Watson must race to solve the mystery before the hound can strike again." "The Hound of the Baskervilles" is produced by special arrangement with Stage Partners. (www.yourstagepartners.com) Again, thank you to all our sponsors for this year! If you own a local business and would like to learn about the perks and privileges of becoming a sponsor and how to become a sponsor, please message us at any time! Please support all our season Producers and Sponsors: Platinum Producers: Davis/Greenwalt Farms Gold Sponsors: Silver Sponsors: Bronze Sponsors: Special Thanks: First Presbyterian Church of Cape Girardeau Christ Church  River City 3D Prints
END:VEVENT
END:VCALENDAR
