BEGIN:VCALENDAR
VERSION:2.0
METHOD:PUBLISH
PRODID:-//www.semoevents.com//Events Calendar//EN
BEGIN:VEVENT
DTSTART:20260508T190000Z
DTEND:20260508T200000Z
SUMMARY:Journaling
LOCATION:Riverside Regional Library, Benton, 54 N. Winchester Street, Benton, MO
UID:29441-2026-05-08@www.semoevents.com
DESCRIPTION:Get creative by journaling. For all ages at the Benton Branch.
END:VEVENT
END:VCALENDAR
