BEGIN:VCALENDAR
VERSION:2.0
METHOD:PUBLISH
PRODID:-//www.semoevents.com//Events Calendar//EN
BEGIN:VEVENT
DTSTART:20260519T190000Z
DTEND:20260519T200000Z
SUMMARY:STEM Program
LOCATION:Riverside Regional Library, Perryville, 800 City Park Lane, Perryville, MO
UID:29465-2026-05-19@www.semoevents.com
DESCRIPTION:Join us for a fun STEM program for ages 6 to 12 at the Perryville Branch.
END:VEVENT
END:VCALENDAR
