BEGIN:VCALENDAR
VERSION:2.0
METHOD:PUBLISH
PRODID:-//www.semoevents.com//Events Calendar//EN
BEGIN:VEVENT
DTSTART:20260526T200000Z
DTEND:20260526T210000Z
SUMMARY:Book Club
LOCATION:Riverside Regional Library - Scott City, 1408 Main Street, Scott City, MO
UID:29475-2026-05-26@www.semoevents.com
DESCRIPTION:Join us for a great book discussion. Check with branch staff for the month’s book selection. For ages 18+ at the Scott City Branch.
END:VEVENT
END:VCALENDAR
