BEGIN:VCALENDAR
VERSION:2.0
METHOD:PUBLISH
PRODID:-//www.semoevents.com//Events Calendar//EN
BEGIN:VEVENT
DTSTART:20260526T203000Z
DTEND:20260526T213000Z
SUMMARY:YA Book Club
LOCATION:Riverside Regional Library, Perryville, 800 City Park Lane, Perryville, MO
UID:29476-2026-05-26@www.semoevents.com
DESCRIPTION:Happy Asian American and Pacific Islander Heritage Month! We are reading “Divining the Leaves” by Shveta Thakrar! Delve into this magical realm that's infused with Buddhist and Hindu folklore. Find your sense of belonging and escape to an enchanted forest with the characters. For ages 16+ at the Perryville Branch.
END:VEVENT
END:VCALENDAR
