BEGIN:VCALENDAR
VERSION:2.0
METHOD:PUBLISH
PRODID:-//www.semoevents.com//Events Calendar//EN
BEGIN:VEVENT
DTSTART:20260526T210000Z
DTEND:20260526T220000Z
SUMMARY:Layers of the Earth Snack
LOCATION:Riverside Regional Library, 1997 E. Jackson Blvd., Jackson, MO
UID:29477-2026-05-26@www.semoevents.com
DESCRIPTION:This program will involve peanuts, but you don’t have to use them. Please register for this food program by calling 573-243-8141 or signing up in person at the Main Branch, Jackson. For ages 5+.
END:VEVENT
END:VCALENDAR
