BEGIN:VCALENDAR
VERSION:2.0
METHOD:PUBLISH
PRODID:-//www.semoevents.com//Events Calendar//EN
BEGIN:VEVENT
DTSTART:20260606T230000Z
DTEND:20260606T230000Z
SUMMARY:Dark Room Worship Session
LOCATION:Lighthouse United, 710 Southern Expy, Cape Girardeau, MO 63703
UID:29494-2026-06-06@www.semoevents.com
DESCRIPTION:This will be a powerful homecoming night of worship, ministry, and community gathering as I return to my hometown with a desire to uplift and encourage through music and faith. 
END:VEVENT
END:VCALENDAR
