BEGIN:VCALENDAR
VERSION:2.0
METHOD:PUBLISH
PRODID:-//www.semoevents.com//Events Calendar//EN
BEGIN:VEVENT
DTSTART:20260425T010000Z
DTEND:20260425T030000Z
SUMMARY:Alec Umfleet
LOCATION:The Bar, 117 Themis Street, Cape Girardeau, MO 63701
UID:29349-2026-04-24@www.semoevents.com
DESCRIPTION:Free Live Music in downtown Cape! Rain or Shine!
END:VEVENT
END:VCALENDAR
