BEGIN:VCALENDAR
VERSION:2.0
METHOD:PUBLISH
PRODID:-//www.semoevents.com//Events Calendar//EN
BEGIN:VEVENT
DTSTART:20260424T230000Z
DTEND:20260425T020000Z
SUMMARY:4th Friday Art Walk
LOCATION:Historic Downtown Ste. Genevieve, N Main St, Ste. Genevieve, MO
UID:29356-2026-04-24@www.semoevents.com
DESCRIPTION:The art galleries and studios in Historic Downtown Ste. Genevieve open their doors from 6 to 9 pm.  Come stroll through beautiful Ste Gen to see current artists at work and learn more about the deeply rooted tradition of Art in Ste Genevieve!
END:VEVENT
BEGIN:VEVENT
DTSTART:20260522T230000Z
DTEND:20260523T020000Z
SUMMARY:4th Friday Art Walk
LOCATION:Historic Downtown Ste. Genevieve, N Main St, Ste. Genevieve, MO
UID:29356-2026-05-22@www.semoevents.com
DESCRIPTION:The art galleries and studios in Historic Downtown Ste. Genevieve open their doors from 6 to 9 pm.  Come stroll through beautiful Ste Gen to see current artists at work and learn more about the deeply rooted tradition of Art in Ste Genevieve!
END:VEVENT
BEGIN:VEVENT
DTSTART:20260626T230000Z
DTEND:20260627T020000Z
SUMMARY:4th Friday Art Walk
LOCATION:Historic Downtown Ste. Genevieve, N Main St, Ste. Genevieve, MO
UID:29356-2026-06-26@www.semoevents.com
DESCRIPTION:The art galleries and studios in Historic Downtown Ste. Genevieve open their doors from 6 to 9 pm.  Come stroll through beautiful Ste Gen to see current artists at work and learn more about the deeply rooted tradition of Art in Ste Genevieve!
END:VEVENT
BEGIN:VEVENT
DTSTART:20260724T230000Z
DTEND:20260725T020000Z
SUMMARY:4th Friday Art Walk
LOCATION:Historic Downtown Ste. Genevieve, N Main St, Ste. Genevieve, MO
UID:29356-2026-07-24@www.semoevents.com
DESCRIPTION:The art galleries and studios in Historic Downtown Ste. Genevieve open their doors from 6 to 9 pm.  Come stroll through beautiful Ste Gen to see current artists at work and learn more about the deeply rooted tradition of Art in Ste Genevieve!
END:VEVENT
BEGIN:VEVENT
DTSTART:20260828T230000Z
DTEND:20260829T020000Z
SUMMARY:4th Friday Art Walk
LOCATION:Historic Downtown Ste. Genevieve, N Main St, Ste. Genevieve, MO
UID:29356-2026-08-28@www.semoevents.com
DESCRIPTION:The art galleries and studios in Historic Downtown Ste. Genevieve open their doors from 6 to 9 pm.  Come stroll through beautiful Ste Gen to see current artists at work and learn more about the deeply rooted tradition of Art in Ste Genevieve!
END:VEVENT
BEGIN:VEVENT
DTSTART:20260925T230000Z
DTEND:20260926T020000Z
SUMMARY:4th Friday Art Walk
LOCATION:Historic Downtown Ste. Genevieve, N Main St, Ste. Genevieve, MO
UID:29356-2026-09-25@www.semoevents.com
DESCRIPTION:The art galleries and studios in Historic Downtown Ste. Genevieve open their doors from 6 to 9 pm.  Come stroll through beautiful Ste Gen to see current artists at work and learn more about the deeply rooted tradition of Art in Ste Genevieve!
END:VEVENT
BEGIN:VEVENT
DTSTART:20261023T230000Z
DTEND:20261024T020000Z
SUMMARY:4th Friday Art Walk
LOCATION:Historic Downtown Ste. Genevieve, N Main St, Ste. Genevieve, MO
UID:29356-2026-10-23@www.semoevents.com
DESCRIPTION:The art galleries and studios in Historic Downtown Ste. Genevieve open their doors from 6 to 9 pm.  Come stroll through beautiful Ste Gen to see current artists at work and learn more about the deeply rooted tradition of Art in Ste Genevieve!
END:VEVENT
END:VCALENDAR
