BEGIN:VCALENDAR
VERSION:2.0
METHOD:PUBLISH
PRODID:-//www.semoevents.com//Events Calendar//EN
BEGIN:VEVENT
DTSTART:20260507T120000Z
DTEND:20260507T220000Z
SUMMARY:St. John's Leopold PCCW Annual Rummage Sale
LOCATION:Knights of Columbus Hall - Leopold, County Road 408, Leopold, MO
UID:29363-2026-05-07@www.semoevents.com
DESCRIPTION:All items reasonably priced. All invited to come shop. All proceeds go to support many charitable projects throughout the year. For more information call Geri Geringer at 573-208-6445.  
END:VEVENT
BEGIN:VEVENT
DTSTART:20260508T120000Z
DTEND:20260508T220000Z
SUMMARY:St. John's Leopold PCCW Annual Rummage Sale
LOCATION:Knights of Columbus Hall - Leopold, County Road 408, Leopold, MO
UID:29363-2026-05-08@www.semoevents.com
DESCRIPTION:All items reasonably priced. All invited to come shop. All proceeds go to support many charitable projects throughout the year. For more information call Geri Geringer at 573-208-6445.  
END:VEVENT
BEGIN:VEVENT
DTSTART:20260509T120000Z
DTEND:20260509T160000Z
SUMMARY:St. John's Leopold PCCW Annual Rummage Sale
LOCATION:Knights of Columbus Hall - Leopold, County Road 408, Leopold, MO
UID:29363-2026-05-09@www.semoevents.com
DESCRIPTION:All items reasonably priced. All invited to come shop. All proceeds go to support many charitable projects throughout the year. For more information call Geri Geringer at 573-208-6445.  
END:VEVENT
END:VCALENDAR
