BEGIN:VCALENDAR
VERSION:2.0
METHOD:PUBLISH
PRODID:-//www.semoevents.com//Events Calendar//EN
BEGIN:VEVENT
DTSTART:20260530T150000Z
DTEND:20260531T030000Z
SUMMARY:Heartland Gaming Con '26
LOCATION:A.C. Brase Arena Building, 2288 Bristol Dr
UID:29366-2026-05-30@www.semoevents.com
DESCRIPTION:The Heartland Gaming Convention is a convention for gamers by gamers. With a focus on events, the Heartland Gaming con boasts constant video gaming, board gaming, miniature gaming, role playing gaming, card gaming all weekend long and over 30 vendors to shop between events.  Badges are on sale now and event tickets can be claimed after obtaining a badge.  For more information visit www.heartlandgamingcon.com and follow us on Facebook!
END:VEVENT
BEGIN:VEVENT
DTSTART:20260531T150000Z
DTEND:20260531T210000Z
SUMMARY:Heartland Gaming Con '26
LOCATION:A.C. Brase Arena Building, 2288 Bristol Dr
UID:29366-2026-05-31@www.semoevents.com
DESCRIPTION:The Heartland Gaming Convention is a convention for gamers by gamers. With a focus on events, the Heartland Gaming con boasts constant video gaming, board gaming, miniature gaming, role playing gaming, card gaming all weekend long and over 30 vendors to shop between events.  Badges are on sale now and event tickets can be claimed after obtaining a badge.  For more information visit www.heartlandgamingcon.com and follow us on Facebook!
END:VEVENT
END:VCALENDAR
