BEGIN:VCALENDAR
VERSION:2.0
METHOD:PUBLISH
PRODID:-//www.semoevents.com//Events Calendar//EN
BEGIN:VEVENT
DTSTART:20260501T223000Z
DTEND:20260502T010000Z
SUMMARY:Conservation Adults: STroll into Nature
LOCATION:Cape Girardeau Conservation Nature Center, 2289 County Park Drive, Cape Girardeau, MO
UID:29382-2026-05-01@www.semoevents.com
DESCRIPTION:Registration period: April 17 - May 1 Outdoor challenges! Puzzles! Trolls! Dare to complete a variety of amazing outdoor challenges as you race against other teams to find all the trolls hidden around the nature center grounds and other significant areas in the Cape Girardeau and Jackson city limits. First team to find every hidden troll and return to the nature center wins the prize – your very own stone garden troll (up to 3 winning teams). Teams will complete a variety of outdoor challenges, puzzles, and riddles to reveal locations of the trolls. This event will take place over a variety of paved, unpaved, and steep terrain. It will not be ADA accessible and participants could potentially get wet or muddy. Please sign up only ONE PERSON per team.
END:VEVENT
END:VCALENDAR
