BEGIN:VCALENDAR
VERSION:2.0
METHOD:PUBLISH
PRODID:-//www.semoevents.com//Events Calendar//EN
BEGIN:VEVENT
DTSTART:20260513T150000Z
DTEND:20260513T233000Z
SUMMARY:Come See Our Gardens: May Flowers (2 options)
LOCATION:Cape Girardeau Conservation Nature Center, 2289 County Park Drive, Cape Girardeau, MO
UID:29385-2026-05-13@www.semoevents.com
DESCRIPTION:Registration period: April 29 - May 13 Time: 10 am OR 5:30 pm Are you thinking about planting more native plants, but you're not sure where to get started? Do you just have some questions about the flowers you see on our grounds? Spend time touring our gardens with the Native Landscape Specialist. He'll talk about what's currently blooming and what's getting ready to bloom, how to identify plant families, and understanding how to get started with planting more native plants in your space.
END:VEVENT
END:VCALENDAR
