BEGIN:VCALENDAR
VERSION:2.0
METHOD:PUBLISH
PRODID:-//www.semoevents.com//Events Calendar//EN
BEGIN:VEVENT
DTSTART:20260516T140000Z
DTEND:20260516T170000Z
SUMMARY:Little Acorns: Paddling Pals (3 options)
LOCATION:Cape Girardeau Conservation Nature Center, 2289 County Park Drive, Cape Girardeau, MO
UID:29386-2026-05-16@www.semoevents.com
DESCRIPTION:Registration period: May 2 - May 16 Times: 9 am OR 10 am OR 11 am Paddle on over and learn about canoeing. Participants will enjoy a short lesson about this beloved paddle sport and enjoy a variety of canoe and water-themed crafts and activities. Little Acorns programs are designed to empower parents to introduce babies and young children to the natural world through hands on experiences, crafts, and focused free-play activities.
END:VEVENT
END:VCALENDAR
