BEGIN:VCALENDAR
VERSION:2.0
METHOD:PUBLISH
PRODID:-//www.semoevents.com//Events Calendar//EN
BEGIN:VEVENT
DTSTART:20260523T190000Z
DTEND:20260523T203000Z
SUMMARY:Conservation Kids: Growing Up Wild
LOCATION:Cape Girardeau Conservation Nature Center, 2289 County Park Drive, Cape Girardeau, MO
UID:29387-2026-05-23@www.semoevents.com
DESCRIPTION:Registration period: May 9 - May 23 In the wild, growing up isn’t easy and some animals seem to grow up in strange ways. From insects that spend 17 years as babies to opossums that live in their mother’s pouch; we’ll explore the different lives of wild animals. Discover how they grow and change through each life stage as we challenge ourselves to see what it takes to grow up wild. Please wear shoes and clothes that can get muddy since a portion of this program will take place near water.
END:VEVENT
END:VCALENDAR
