BEGIN:VCALENDAR
VERSION:2.0
METHOD:PUBLISH
PRODID:-//www.semoevents.com//Events Calendar//EN
BEGIN:VEVENT
DTSTART:20260501T153000Z
DTEND:20260501T163000Z
SUMMARY:Story Time
LOCATION:Riverside Regional Library, 1997 E Jackson Blvd., Jackson, MO
UID:29406-2026-05-01@www.semoevents.com
DESCRIPTION:Enjoy stories, songs and activities to engage your little ones and foster a love of reading. For ages 0-6 at the Main Branch, Jackson.
END:VEVENT
BEGIN:VEVENT
DTSTART:20260508T153000Z
DTEND:20260508T163000Z
SUMMARY:Story Time
LOCATION:Riverside Regional Library, 1997 E Jackson Blvd., Jackson, MO
UID:29406-2026-05-08@www.semoevents.com
DESCRIPTION:Enjoy stories, songs and activities to engage your little ones and foster a love of reading. For ages 0-6 at the Main Branch, Jackson.
END:VEVENT
BEGIN:VEVENT
DTSTART:20260515T153000Z
DTEND:20260515T163000Z
SUMMARY:Story Time
LOCATION:Riverside Regional Library, 1997 E Jackson Blvd., Jackson, MO
UID:29406-2026-05-15@www.semoevents.com
DESCRIPTION:Enjoy stories, songs and activities to engage your little ones and foster a love of reading. For ages 0-6 at the Main Branch, Jackson.
END:VEVENT
BEGIN:VEVENT
DTSTART:20260522T153000Z
DTEND:20260522T163000Z
SUMMARY:Story Time
LOCATION:Riverside Regional Library, 1997 E Jackson Blvd., Jackson, MO
UID:29406-2026-05-22@www.semoevents.com
DESCRIPTION:Enjoy stories, songs and activities to engage your little ones and foster a love of reading. For ages 0-6 at the Main Branch, Jackson.
END:VEVENT
BEGIN:VEVENT
DTSTART:20260529T153000Z
DTEND:20260529T163000Z
SUMMARY:Story Time
LOCATION:Riverside Regional Library, 1997 E Jackson Blvd., Jackson, MO
UID:29406-2026-05-29@www.semoevents.com
DESCRIPTION:Enjoy stories, songs and activities to engage your little ones and foster a love of reading. For ages 0-6 at the Main Branch, Jackson.
END:VEVENT
END:VCALENDAR
