BEGIN:VCALENDAR
VERSION:2.0
METHOD:PUBLISH
PRODID:-//www.semoevents.com//Events Calendar//EN
BEGIN:VEVENT
DTSTART:20260501T180000Z
DTEND:20260501T230000Z
SUMMARY:Book Sale
LOCATION:Riverside Regional Library, Scott City, 1408 Main Street, Scott City, MO
UID:29407-2026-05-01@www.semoevents.com
DESCRIPTION:Looking for a great summer read to take on vacation? Love a bargain? Then head to the Scott City Branch for the Spring Book Sale. All ages welcome.
END:VEVENT
BEGIN:VEVENT
DTSTART:20260502T140000Z
DTEND:20260502T170000Z
SUMMARY:Book Sale
LOCATION:Riverside Regional Library, Scott City, 1408 Main Street, Scott City, MO
UID:29407-2026-05-02@www.semoevents.com
DESCRIPTION:Looking for a great summer read to take on vacation? Love a bargain? Then head to the Scott City Branch for the Spring Book Sale. All ages welcome.
END:VEVENT
END:VCALENDAR
