BEGIN:VCALENDAR
VERSION:2.0
METHOD:PUBLISH
PRODID:-//www.semoevents.com//Events Calendar//EN
BEGIN:VEVENT
DTSTART:20260502T150000Z
DTEND:20260502T170000Z
SUMMARY:Kids Sewing
LOCATION:Riverside Regional Library, Scott City, 1408 Main Street, Scott City, MO
UID:29408-2026-05-02@www.semoevents.com
DESCRIPTION:If you’d like to make handmade gifts, home décor or even clothes, then come in and learn to sew. Learn simple projects to get you started. For ages 7+ at the Scott City Branch.
END:VEVENT
BEGIN:VEVENT
DTSTART:20260516T150000Z
DTEND:20260516T170000Z
SUMMARY:Kids Sewing
LOCATION:Riverside Regional Library, Scott City, 1408 Main Street, Scott City, MO
UID:29408-2026-05-16@www.semoevents.com
DESCRIPTION:If you’d like to make handmade gifts, home décor or even clothes, then come in and learn to sew. Learn simple projects to get you started. For ages 7+ at the Scott City Branch.
END:VEVENT
END:VCALENDAR
