BEGIN:VCALENDAR
VERSION:2.0
METHOD:PUBLISH
PRODID:-//www.semoevents.com//Events Calendar//EN
BEGIN:VEVENT
DTSTART:20260504T140000Z
DTEND:20260504T230000Z
SUMMARY:Mother's Day Card Making
LOCATION:Riverside Regional Library, Perryville, 800 City Park Drive, Perryville, MO
UID:29409-2026-05-04@www.semoevents.com
DESCRIPTION:If you’d like to give Mom or Grandma a handmade card, come in to the Perryville Branch and create your own special Mother’s Day card for a special lady. For all ages.
END:VEVENT
BEGIN:VEVENT
DTSTART:20260505T140000Z
DTEND:20260505T230000Z
SUMMARY:Mother's Day Card Making
LOCATION:Riverside Regional Library, Perryville, 800 City Park Drive, Perryville, MO
UID:29409-2026-05-05@www.semoevents.com
DESCRIPTION:If you’d like to give Mom or Grandma a handmade card, come in to the Perryville Branch and create your own special Mother’s Day card for a special lady. For all ages.
END:VEVENT
BEGIN:VEVENT
DTSTART:20260506T140000Z
DTEND:20260506T230000Z
SUMMARY:Mother's Day Card Making
LOCATION:Riverside Regional Library, Perryville, 800 City Park Drive, Perryville, MO
UID:29409-2026-05-06@www.semoevents.com
DESCRIPTION:If you’d like to give Mom or Grandma a handmade card, come in to the Perryville Branch and create your own special Mother’s Day card for a special lady. For all ages.
END:VEVENT
BEGIN:VEVENT
DTSTART:20260507T140000Z
DTEND:20260507T230000Z
SUMMARY:Mother's Day Card Making
LOCATION:Riverside Regional Library, Perryville, 800 City Park Drive, Perryville, MO
UID:29409-2026-05-07@www.semoevents.com
DESCRIPTION:If you’d like to give Mom or Grandma a handmade card, come in to the Perryville Branch and create your own special Mother’s Day card for a special lady. For all ages.
END:VEVENT
BEGIN:VEVENT
DTSTART:20260508T140000Z
DTEND:20260508T230000Z
SUMMARY:Mother's Day Card Making
LOCATION:Riverside Regional Library, Perryville, 800 City Park Drive, Perryville, MO
UID:29409-2026-05-08@www.semoevents.com
DESCRIPTION:If you’d like to give Mom or Grandma a handmade card, come in to the Perryville Branch and create your own special Mother’s Day card for a special lady. For all ages.
END:VEVENT
BEGIN:VEVENT
DTSTART:20260509T140000Z
DTEND:20260509T180000Z
SUMMARY:Mother's Day Card Making
LOCATION:Riverside Regional Library, Perryville, 800 City Park Drive, Perryville, MO
UID:29409-2026-05-09@www.semoevents.com
DESCRIPTION:If you’d like to give Mom or Grandma a handmade card, come in to the Perryville Branch and create your own special Mother’s Day card for a special lady. For all ages.
END:VEVENT
END:VCALENDAR
