BEGIN:VCALENDAR
VERSION:2.0
METHOD:PUBLISH
PRODID:-//www.semoevents.com//Events Calendar//EN
BEGIN:VEVENT
DTSTART:20260504T150000Z
DTEND:20260504T160000Z
SUMMARY:Play Doh Social
LOCATION:Riverside Regional Library, 1997 E Jackson Blvd., Jackson, MO
UID:29410-2026-05-04@www.semoevents.com
DESCRIPTION:Use fine motor skills, learn about shapes, and get those creative juices flowing while making new friends at the Play Doh Social. For ages 0-10 at the Main Branch, Jackson.
END:VEVENT
END:VCALENDAR
