BEGIN:VCALENDAR
VERSION:2.0
METHOD:PUBLISH
PRODID:-//www.semoevents.com//Events Calendar//EN
BEGIN:VEVENT
DTSTART:20260504T183000Z
DTEND:20260504T193000Z
SUMMARY:Adult Coloring
LOCATION:Riverside Regional Library, Oran, 120 Mountain Street, Oran, MO 63771
UID:29411-2026-05-04@www.semoevents.com
DESCRIPTION:Get creative and relax with coloring. For ages 18+ at the Oran Branch.
END:VEVENT
END:VCALENDAR
