BEGIN:VCALENDAR
VERSION:2.0
METHOD:PUBLISH
PRODID:-//www.semoevents.com//Events Calendar//EN
BEGIN:VEVENT
DTSTART:20260504T200000Z
DTEND:20260504T210000Z
SUMMARY:Homework Club
LOCATION:Riverside Regional Library, Oran, 120 Mountain Street, Oran, MO 63771
UID:29412-2026-05-04@www.semoevents.com
DESCRIPTION:Get help or meet up with classmates and work on your homework together. For ages 7-17 at the Oran Branch.
END:VEVENT
END:VCALENDAR
