BEGIN:VCALENDAR
VERSION:2.0
METHOD:PUBLISH
PRODID:-//www.semoevents.com//Events Calendar//EN
BEGIN:VEVENT
DTSTART:20260504T203000Z
DTEND:20260504T213000Z
SUMMARY:Fun with STEM: Mini Lightsabers
LOCATION:Riverside Regional Library, Perryville, 800 City Park Drive, Perryville, MO
UID:29413-2026-05-04@www.semoevents.com
DESCRIPTION:Embrace your inner geek this Star Wars Day with a fun-filled STEM activity! We will be creating a simple circuit using batteries and LEDs to make our lightsabers glow! For ages 7+ at the Perryville Branch.
END:VEVENT
END:VCALENDAR
