BEGIN:VCALENDAR
VERSION:2.0
METHOD:PUBLISH
PRODID:-//www.semoevents.com//Events Calendar//EN
BEGIN:VEVENT
DTSTART:20260504T210000Z
DTEND:20260504T220000Z
SUMMARY:Spanish Class
LOCATION:Riverside Regional Library, Scott City, 1408 Main St., Scott City, MO
UID:29414-2026-05-04@www.semoevents.com
DESCRIPTION:Learn conversational Spanish in a low stress environment. For ages 6+ at the Scott City Branch.
END:VEVENT
BEGIN:VEVENT
DTSTART:20260518T210000Z
DTEND:20260518T220000Z
SUMMARY:Spanish Class
LOCATION:Riverside Regional Library, Scott City, 1408 Main St., Scott City, MO
UID:29414-2026-05-18@www.semoevents.com
DESCRIPTION:Learn conversational Spanish in a low stress environment. For ages 6+ at the Scott City Branch.
END:VEVENT
END:VCALENDAR
