BEGIN:VCALENDAR
VERSION:2.0
METHOD:PUBLISH
PRODID:-//www.semoevents.com//Events Calendar//EN
BEGIN:VEVENT
DTSTART:20260505T140000Z
DTEND:20260505T160000Z
SUMMARY:Tech Help Session
LOCATION:Riverside Regional Library, 1997 E Jackson Blvd., Jackson, MO
UID:29415-2026-05-05@www.semoevents.com
DESCRIPTION:Need help with your technology? We’ve got you covered!! Drop in for one-on-one sessions for help with smartphones, computers, iPads, and the Libby and Blackstone apps. Whether you’re troubleshooting a device, learning a new feature or getting comfortable with library apps, our staff is here to help. For ages 18+ at the Main Branch in Jackson.
END:VEVENT
BEGIN:VEVENT
DTSTART:20260512T140000Z
DTEND:20260512T160000Z
SUMMARY:Tech Help Session
LOCATION:Riverside Regional Library, 1997 E Jackson Blvd., Jackson, MO
UID:29415-2026-05-12@www.semoevents.com
DESCRIPTION:Need help with your technology? We’ve got you covered!! Drop in for one-on-one sessions for help with smartphones, computers, iPads, and the Libby and Blackstone apps. Whether you’re troubleshooting a device, learning a new feature or getting comfortable with library apps, our staff is here to help. For ages 18+ at the Main Branch in Jackson.
END:VEVENT
BEGIN:VEVENT
DTSTART:20260519T140000Z
DTEND:20260519T160000Z
SUMMARY:Tech Help Session
LOCATION:Riverside Regional Library, 1997 E Jackson Blvd., Jackson, MO
UID:29415-2026-05-19@www.semoevents.com
DESCRIPTION:Need help with your technology? We’ve got you covered!! Drop in for one-on-one sessions for help with smartphones, computers, iPads, and the Libby and Blackstone apps. Whether you’re troubleshooting a device, learning a new feature or getting comfortable with library apps, our staff is here to help. For ages 18+ at the Main Branch in Jackson.
END:VEVENT
BEGIN:VEVENT
DTSTART:20260526T140000Z
DTEND:20260526T160000Z
SUMMARY:Tech Help Session
LOCATION:Riverside Regional Library, 1997 E Jackson Blvd., Jackson, MO
UID:29415-2026-05-26@www.semoevents.com
DESCRIPTION:Need help with your technology? We’ve got you covered!! Drop in for one-on-one sessions for help with smartphones, computers, iPads, and the Libby and Blackstone apps. Whether you’re troubleshooting a device, learning a new feature or getting comfortable with library apps, our staff is here to help. For ages 18+ at the Main Branch in Jackson.
END:VEVENT
END:VCALENDAR
