BEGIN:VCALENDAR
VERSION:2.0
METHOD:PUBLISH
PRODID:-//www.semoevents.com//Events Calendar//EN
BEGIN:VEVENT
DTSTART:20260505T180000Z
DTEND:20260505T190000Z
SUMMARY:Snack-n-chat
LOCATION:Riverside Regional Library, Scott City, 1408 Main Street, Scott City, MO
UID:29416-2026-05-05@www.semoevents.com
DESCRIPTION:Come in and enjoy the new branch!! Connect with others in the community and see all the new happenings at the Scott City Branch. For all ages.
END:VEVENT
END:VCALENDAR
