BEGIN:VCALENDAR
VERSION:2.0
METHOD:PUBLISH
PRODID:-//www.semoevents.com//Events Calendar//EN
BEGIN:VEVENT
DTSTART:20260421T210000Z
DTEND:20260421T220000Z
SUMMARY:Worm Racing
LOCATION:Cape Girardeau Public Library, 711 N. Clark St., Cape Girardeau, MO
UID:29418-2026-04-21@www.semoevents.com
DESCRIPTION:Worm Racing! Yes, you read that right: We’re racing worms, real live worms. (ages 6-11) Accessibility The library makes every effort to ensure our programs can be enjoyed by all. If you have any concerns about accessibility or need to request specific accommodations, please contact the library. Accompanying Adults This program is designed for children and accompanying adults. Please plan to attend and be engaged with your child for this program. Drop-offs will not be permitted.
END:VEVENT
END:VCALENDAR
