BEGIN:VCALENDAR
VERSION:2.0
METHOD:PUBLISH
PRODID:-//www.semoevents.com//Events Calendar//EN
BEGIN:VEVENT
DTSTART:20260422T180000Z
DTEND:20260422T193000Z
SUMMARY:Alzheimer's Association Presents: Managing Money
LOCATION:Cape Girardeau Public Library, 711 N. Clark St., Cape Girardeau, MO
UID:29421-2026-04-22@www.semoevents.com
DESCRIPTION:This event is presented by the Alzheimer's Association of Greater Missouri. Attendees will learn tips for managing another's finances, how to prepare for future care costs and the benefits of early planning. Registration for this event is required. (Ages 18+) Accessibility The library makes every effort to ensure our programs can be enjoyed by all. If you have any concerns about accessibility or need to request specific accommodations, please contact the library.
END:VEVENT
END:VCALENDAR
