BEGIN:VCALENDAR
VERSION:2.0
METHOD:PUBLISH
PRODID:-//www.semoevents.com//Events Calendar//EN
BEGIN:VEVENT
DTSTART:20260422T210000Z
DTEND:20260422T220000Z
SUMMARY:Felt Crafting
LOCATION:Cape Girardeau Public Library, 711 N. Clark St., Cape Girardeau, MO
UID:29422-2026-04-22@www.semoevents.com
DESCRIPTION:Banners, patches, and keychains, oh, my! Come hang out and make all different kinds of felt crafts! (Ages 12-18) Accessibility The library makes every effort to ensure our programs can be enjoyed by all. If you have any concerns about accessibility or need to request specific accommodations, please contact the library. Teens Only Parents, please plan to drop your teen off to enjoy this event with their peers.
END:VEVENT
END:VCALENDAR
