BEGIN:VCALENDAR
VERSION:2.0
METHOD:PUBLISH
PRODID:-//www.semoevents.com//Events Calendar//EN
BEGIN:VEVENT
DTSTART:20260505T190000Z
DTEND:20260505T200000Z
SUMMARY:Crochet
LOCATION:Riverside Regional Library - Scott City, 1408 Main Street, Scott City, MO
UID:29425-2026-05-05@www.semoevents.com
DESCRIPTION:Need help on a crochet pattern or just want time to focus and make progress on your project? Then join us for the weekly crochet group at the Scott City Branch. Program is for ages 6+.
END:VEVENT
BEGIN:VEVENT
DTSTART:20260512T190000Z
DTEND:20260512T200000Z
SUMMARY:Crochet
LOCATION:Riverside Regional Library - Scott City, 1408 Main Street, Scott City, MO
UID:29425-2026-05-12@www.semoevents.com
DESCRIPTION:Need help on a crochet pattern or just want time to focus and make progress on your project? Then join us for the weekly crochet group at the Scott City Branch. Program is for ages 6+.
END:VEVENT
BEGIN:VEVENT
DTSTART:20260519T190000Z
DTEND:20260519T200000Z
SUMMARY:Crochet
LOCATION:Riverside Regional Library - Scott City, 1408 Main Street, Scott City, MO
UID:29425-2026-05-19@www.semoevents.com
DESCRIPTION:Need help on a crochet pattern or just want time to focus and make progress on your project? Then join us for the weekly crochet group at the Scott City Branch. Program is for ages 6+.
END:VEVENT
BEGIN:VEVENT
DTSTART:20260526T190000Z
DTEND:20260526T200000Z
SUMMARY:Crochet
LOCATION:Riverside Regional Library - Scott City, 1408 Main Street, Scott City, MO
UID:29425-2026-05-26@www.semoevents.com
DESCRIPTION:Need help on a crochet pattern or just want time to focus and make progress on your project? Then join us for the weekly crochet group at the Scott City Branch. Program is for ages 6+.
END:VEVENT
END:VCALENDAR
