BEGIN:VCALENDAR
VERSION:2.0
METHOD:PUBLISH
PRODID:-//www.semoevents.com//Events Calendar//EN
BEGIN:VEVENT
DTSTART:20260505T200000Z
DTEND:20260505T220000Z
SUMMARY:Cinco de Mayo
LOCATION:Riverside Regional Library, 1997 E. Jackson Blvd., Jackson, MO
UID:29427-2026-05-05@www.semoevents.com
DESCRIPTION:Drop in to learn a little about the history of Cinco de Mayo, while making crafts and playing games. For all ages at the Main Branch in Jackson.
END:VEVENT
END:VCALENDAR
