BEGIN:VCALENDAR
VERSION:2.0
METHOD:PUBLISH
PRODID:-//www.semoevents.com//Events Calendar//EN
BEGIN:VEVENT
DTSTART:20260505T203000Z
DTEND:20260505T213000Z
SUMMARY:Cinco de Mayo Craft: Paper Bag Piņata
LOCATION:Riverside Regional Library, Perryville, 800 City Park Lane, Perryville, MO
UID:29428-2026-05-05@www.semoevents.com
DESCRIPTION:Decorate a mini piņata to take home for your own Mexican themed party! For all ages at the Perryville Branch.
END:VEVENT
END:VCALENDAR
