BEGIN:VCALENDAR
VERSION:2.0
METHOD:PUBLISH
PRODID:-//www.semoevents.com//Events Calendar//EN
BEGIN:VEVENT
DTSTART:20260506T140000Z
DTEND:20260506T153000Z
SUMMARY:Qigong & Tai Chi
LOCATION:Riverside Regional Library, 1997 E. Jackson Blvd., Jackson, MO
UID:29429-2026-05-06@www.semoevents.com
DESCRIPTION:Join us to build strength and balance through gentle exercise. This class is appropriate for most fitness levels. If you have questions, contact Frankie at 573-243-8141. For ages 18+ at the Main Branch, Jackson.
END:VEVENT
BEGIN:VEVENT
DTSTART:20260513T140000Z
DTEND:20260513T153000Z
SUMMARY:Qigong & Tai Chi
LOCATION:Riverside Regional Library, 1997 E. Jackson Blvd., Jackson, MO
UID:29429-2026-05-13@www.semoevents.com
DESCRIPTION:Join us to build strength and balance through gentle exercise. This class is appropriate for most fitness levels. If you have questions, contact Frankie at 573-243-8141. For ages 18+ at the Main Branch, Jackson.
END:VEVENT
BEGIN:VEVENT
DTSTART:20260520T140000Z
DTEND:20260520T153000Z
SUMMARY:Qigong & Tai Chi
LOCATION:Riverside Regional Library, 1997 E. Jackson Blvd., Jackson, MO
UID:29429-2026-05-20@www.semoevents.com
DESCRIPTION:Join us to build strength and balance through gentle exercise. This class is appropriate for most fitness levels. If you have questions, contact Frankie at 573-243-8141. For ages 18+ at the Main Branch, Jackson.
END:VEVENT
BEGIN:VEVENT
DTSTART:20260527T140000Z
DTEND:20260527T153000Z
SUMMARY:Qigong & Tai Chi
LOCATION:Riverside Regional Library, 1997 E. Jackson Blvd., Jackson, MO
UID:29429-2026-05-27@www.semoevents.com
DESCRIPTION:Join us to build strength and balance through gentle exercise. This class is appropriate for most fitness levels. If you have questions, contact Frankie at 573-243-8141. For ages 18+ at the Main Branch, Jackson.
END:VEVENT
END:VCALENDAR
