BEGIN:VCALENDAR
VERSION:2.0
METHOD:PUBLISH
PRODID:-//www.semoevents.com//Events Calendar//EN
BEGIN:VEVENT
DTSTART:20260506T143000Z
DTEND:20260506T160000Z
SUMMARY:Coloring
LOCATION:Riverside Regional Library, Benton, 54 N. Winchester Street, Benton, MO
UID:29430-2026-05-06@www.semoevents.com
DESCRIPTION:Come in to get creative and relax with coloring. For all ages at the Benton Branch.
END:VEVENT
BEGIN:VEVENT
DTSTART:20260520T143000Z
DTEND:20260520T160000Z
SUMMARY:Coloring
LOCATION:Riverside Regional Library, Benton, 54 N. Winchester Street, Benton, MO
UID:29430-2026-05-20@www.semoevents.com
DESCRIPTION:Come in to get creative and relax with coloring. For all ages at the Benton Branch.
END:VEVENT
END:VCALENDAR
