BEGIN:VCALENDAR
VERSION:2.0
METHOD:PUBLISH
PRODID:-//www.semoevents.com//Events Calendar//EN
BEGIN:VEVENT
DTSTART:20260506T210000Z
DTEND:20260506T220000Z
SUMMARY:Story Time
LOCATION:Riverside Regional Library, Perryville, 800 City Park Lane, Perryville, MO
UID:29432-2026-05-06@www.semoevents.com
DESCRIPTION:Grab your young one and head to the library for some group toddler time, sharing a story and learning important lessons. Enjoy funny, colorful books, ones that rhyme, and ones that teach valuable life lessons. Sometimes we have games, sometimes we have crafts, but we always have a great time with our friends! For ages 0-6 at the Perryville Branch.
END:VEVENT
BEGIN:VEVENT
DTSTART:20260513T210000Z
DTEND:20260513T220000Z
SUMMARY:Story Time
LOCATION:Riverside Regional Library, Perryville, 800 City Park Lane, Perryville, MO
UID:29432-2026-05-13@www.semoevents.com
DESCRIPTION:Grab your young one and head to the library for some group toddler time, sharing a story and learning important lessons. Enjoy funny, colorful books, ones that rhyme, and ones that teach valuable life lessons. Sometimes we have games, sometimes we have crafts, but we always have a great time with our friends! For ages 0-6 at the Perryville Branch.
END:VEVENT
BEGIN:VEVENT
DTSTART:20260520T210000Z
DTEND:20260520T220000Z
SUMMARY:Story Time
LOCATION:Riverside Regional Library, Perryville, 800 City Park Lane, Perryville, MO
UID:29432-2026-05-20@www.semoevents.com
DESCRIPTION:Grab your young one and head to the library for some group toddler time, sharing a story and learning important lessons. Enjoy funny, colorful books, ones that rhyme, and ones that teach valuable life lessons. Sometimes we have games, sometimes we have crafts, but we always have a great time with our friends! For ages 0-6 at the Perryville Branch.
END:VEVENT
BEGIN:VEVENT
DTSTART:20260527T210000Z
DTEND:20260527T220000Z
SUMMARY:Story Time
LOCATION:Riverside Regional Library, Perryville, 800 City Park Lane, Perryville, MO
UID:29432-2026-05-27@www.semoevents.com
DESCRIPTION:Grab your young one and head to the library for some group toddler time, sharing a story and learning important lessons. Enjoy funny, colorful books, ones that rhyme, and ones that teach valuable life lessons. Sometimes we have games, sometimes we have crafts, but we always have a great time with our friends! For ages 0-6 at the Perryville Branch.
END:VEVENT
END:VCALENDAR
