BEGIN:VCALENDAR
VERSION:2.0
METHOD:PUBLISH
PRODID:-//www.semoevents.com//Events Calendar//EN
BEGIN:VEVENT
DTSTART:20260506T200000Z
DTEND:20260506T210000Z
SUMMARY:Chess
LOCATION:Riverside Regional Library - Scott City, 1408 Main Street, Scott City, MO
UID:29434-2026-05-06@www.semoevents.com
DESCRIPTION:Learn strategy, exercise the brain and have fun by playing chess. For ages 6+ at the Scott City Branch.
END:VEVENT
BEGIN:VEVENT
DTSTART:20260513T200000Z
DTEND:20260513T210000Z
SUMMARY:Chess
LOCATION:Riverside Regional Library - Scott City, 1408 Main Street, Scott City, MO
UID:29434-2026-05-13@www.semoevents.com
DESCRIPTION:Learn strategy, exercise the brain and have fun by playing chess. For ages 6+ at the Scott City Branch.
END:VEVENT
BEGIN:VEVENT
DTSTART:20260520T200000Z
DTEND:20260520T210000Z
SUMMARY:Chess
LOCATION:Riverside Regional Library - Scott City, 1408 Main Street, Scott City, MO
UID:29434-2026-05-20@www.semoevents.com
DESCRIPTION:Learn strategy, exercise the brain and have fun by playing chess. For ages 6+ at the Scott City Branch.
END:VEVENT
BEGIN:VEVENT
DTSTART:20260527T200000Z
DTEND:20260527T210000Z
SUMMARY:Chess
LOCATION:Riverside Regional Library - Scott City, 1408 Main Street, Scott City, MO
UID:29434-2026-05-27@www.semoevents.com
DESCRIPTION:Learn strategy, exercise the brain and have fun by playing chess. For ages 6+ at the Scott City Branch.
END:VEVENT
END:VCALENDAR
