BEGIN:VCALENDAR
VERSION:2.0
METHOD:PUBLISH
PRODID:-//www.semoevents.com//Events Calendar//EN
BEGIN:VEVENT
DTSTART:20260507T180000Z
DTEND:20260507T200000Z
SUMMARY:Scrapbooking
LOCATION:Riverside Regional Library - Scott City, 1408 Main Street, Scott City, MO
UID:29437-2026-05-07@www.semoevents.com
DESCRIPTION:Come socialize, make progress on your scrapbook projects and share ideas. For ages 18+ at the Scott City Branch.
END:VEVENT
BEGIN:VEVENT
DTSTART:20260514T180000Z
DTEND:20260514T200000Z
SUMMARY:Scrapbooking
LOCATION:Riverside Regional Library - Scott City, 1408 Main Street, Scott City, MO
UID:29437-2026-05-14@www.semoevents.com
DESCRIPTION:Come socialize, make progress on your scrapbook projects and share ideas. For ages 18+ at the Scott City Branch.
END:VEVENT
BEGIN:VEVENT
DTSTART:20260528T180000Z
DTEND:20260528T200000Z
SUMMARY:Scrapbooking
LOCATION:Riverside Regional Library - Scott City, 1408 Main Street, Scott City, MO
UID:29437-2026-05-28@www.semoevents.com
DESCRIPTION:Come socialize, make progress on your scrapbook projects and share ideas. For ages 18+ at the Scott City Branch.
END:VEVENT
END:VCALENDAR
