BEGIN:VCALENDAR
VERSION:2.0
METHOD:PUBLISH
PRODID:-//www.semoevents.com//Events Calendar//EN
BEGIN:VEVENT
DTSTART:20260507T203000Z
DTEND:20260507T213000Z
SUMMARY:Chess Club
LOCATION:Riverside Regional Library, 1997 E. Jackson Blvd., Jackson, MO
UID:29438-2026-05-07@www.semoevents.com
DESCRIPTION:Come to learn, play, or teach others at the Main Branch, Jackson. Adults are welcome but this club is primarily for youth ages 6-17.
END:VEVENT
BEGIN:VEVENT
DTSTART:20260514T203000Z
DTEND:20260514T213000Z
SUMMARY:Chess Club
LOCATION:Riverside Regional Library, 1997 E. Jackson Blvd., Jackson, MO
UID:29438-2026-05-14@www.semoevents.com
DESCRIPTION:Come to learn, play, or teach others at the Main Branch, Jackson. Adults are welcome but this club is primarily for youth ages 6-17.
END:VEVENT
BEGIN:VEVENT
DTSTART:20260521T203000Z
DTEND:20260521T213000Z
SUMMARY:Chess Club
LOCATION:Riverside Regional Library, 1997 E. Jackson Blvd., Jackson, MO
UID:29438-2026-05-21@www.semoevents.com
DESCRIPTION:Come to learn, play, or teach others at the Main Branch, Jackson. Adults are welcome but this club is primarily for youth ages 6-17.
END:VEVENT
BEGIN:VEVENT
DTSTART:20260528T203000Z
DTEND:20260528T213000Z
SUMMARY:Chess Club
LOCATION:Riverside Regional Library, 1997 E. Jackson Blvd., Jackson, MO
UID:29438-2026-05-28@www.semoevents.com
DESCRIPTION:Come to learn, play, or teach others at the Main Branch, Jackson. Adults are welcome but this club is primarily for youth ages 6-17.
END:VEVENT
END:VCALENDAR
