BEGIN:VCALENDAR
VERSION:2.0
METHOD:PUBLISH
PRODID:-//www.semoevents.com//Events Calendar//EN
BEGIN:VEVENT
DTSTART:20260507T203000Z
DTEND:20260507T213000Z
SUMMARY:Teen Activity
LOCATION:Riverside Regional Library, Perryville, 800 City Park Lane, Perryville, MO
UID:29439-2026-05-07@www.semoevents.com
DESCRIPTION:Come in for snacks, crafts and laughs with other teens (ages 13-17) at the Perryville Branch.
END:VEVENT
BEGIN:VEVENT
DTSTART:20260514T203000Z
DTEND:20260514T213000Z
SUMMARY:Teen Activity
LOCATION:Riverside Regional Library, Perryville, 800 City Park Lane, Perryville, MO
UID:29439-2026-05-14@www.semoevents.com
DESCRIPTION:Come in for snacks, crafts and laughs with other teens (ages 13-17) at the Perryville Branch.
END:VEVENT
BEGIN:VEVENT
DTSTART:20260521T203000Z
DTEND:20260521T213000Z
SUMMARY:Teen Activity
LOCATION:Riverside Regional Library, Perryville, 800 City Park Lane, Perryville, MO
UID:29439-2026-05-21@www.semoevents.com
DESCRIPTION:Come in for snacks, crafts and laughs with other teens (ages 13-17) at the Perryville Branch.
END:VEVENT
BEGIN:VEVENT
DTSTART:20260528T203000Z
DTEND:20260528T213000Z
SUMMARY:Teen Activity
LOCATION:Riverside Regional Library, Perryville, 800 City Park Lane, Perryville, MO
UID:29439-2026-05-28@www.semoevents.com
DESCRIPTION:Come in for snacks, crafts and laughs with other teens (ages 13-17) at the Perryville Branch.
END:VEVENT
END:VCALENDAR
