BEGIN:VCALENDAR
VERSION:2.0
METHOD:PUBLISH
PRODID:-//www.semoevents.com//Events Calendar//EN
BEGIN:VEVENT
DTSTART:20260507T210000Z
DTEND:20260507T220000Z
SUMMARY:Teen Summer Bucket List
LOCATION:Riverside Regional Library, Oran, 120 Mountain Street, Oran, MO 63771
UID:29440-2026-05-07@www.semoevents.com
DESCRIPTION:Get ready for summer by creating your own bucket list. Program is for ages 11-17 at the Oran Branch.
END:VEVENT
END:VCALENDAR
