BEGIN:VCALENDAR
VERSION:2.0
METHOD:PUBLISH
PRODID:-//www.semoevents.com//Events Calendar//EN
BEGIN:VEVENT
DTSTART:20260511T150000Z
DTEND:20260511T163000Z
SUMMARY:Craft & Chat
LOCATION:Riverside Regional Library, 1997 E. Jackson Blvd., Jackson, MO
UID:29446-2026-05-11@www.semoevents.com
DESCRIPTION:Take some dedicated time to make progress on your craft, handiwork or sewing project and visit with others who also love to craft. The month we’ll also have a demonstration of tatting. For ages 18+ at the Main Branch in Jackson.
END:VEVENT
END:VCALENDAR
