BEGIN:VCALENDAR
VERSION:2.0
METHOD:PUBLISH
PRODID:-//www.semoevents.com//Events Calendar//EN
BEGIN:VEVENT
DTSTART:20260511T180000Z
DTEND:20260511T190000Z
SUMMARY:Diabetes Support
LOCATION:Riverside Regional Library - Scott City, 1408 Main Street, Scott City, MO
UID:29447-2026-05-11@www.semoevents.com
DESCRIPTION:Gain knowledge and support to manage diabetes. For ages 18+ at the Scott City Branch.
END:VEVENT
END:VCALENDAR
