BEGIN:VCALENDAR
VERSION:2.0
METHOD:PUBLISH
PRODID:-//www.semoevents.com//Events Calendar//EN
BEGIN:VEVENT
DTSTART:20260511T183000Z
DTEND:20260511T193000Z
SUMMARY:Adult Craft
LOCATION:Riverside Regional Library, Oran, 120 Mountain Street, Oran, MO 63771
UID:29448-2026-05-11@www.semoevents.com
DESCRIPTION:Get creative with a fun craft for ages 18+ at the Oran Branch.
END:VEVENT
END:VCALENDAR
