BEGIN:VCALENDAR
VERSION:2.0
METHOD:PUBLISH
PRODID:-//www.semoevents.com//Events Calendar//EN
BEGIN:VEVENT
DTSTART:20260511T190000Z
DTEND:20260511T200000Z
SUMMARY:Book Club
LOCATION:Riverside Regional Library, Perryville, 800 City Park Lane, Perryville, MO
UID:29449-2026-05-11@www.semoevents.com
DESCRIPTION:Consider joining one of our Riverside Regional Library branch book clubs! This month we’ll be reading the historical fiction novel “The Berry Pickers” by Amanda Peters. Perryville Book Club meets on the second Monday of the month. For ages 18+ at the Perryville Branch. 
END:VEVENT
END:VCALENDAR
