BEGIN:VCALENDAR
VERSION:2.0
METHOD:PUBLISH
PRODID:-//www.semoevents.com//Events Calendar//EN
BEGIN:VEVENT
DTSTART:20260512T200000Z
DTEND:20260512T220000Z
SUMMARY:De-Stress Craft
LOCATION:Riverside Regional Library, 1997 E. Jackson Blvd., Jackson, MO
UID:29450-2026-05-12@www.semoevents.com
DESCRIPTION:School is ending soon for most kids! Drop in to find ways to release the stress of final projects, testing, and getting everything turned in. Paint a worry stone, color and follow journal prompts in a welcoming environment. Anyone is welcome, whether a student or not! For all ages at the Main Branch, Jackson.
END:VEVENT
END:VCALENDAR
