BEGIN:VCALENDAR
VERSION:2.0
METHOD:PUBLISH
PRODID:-//www.semoevents.com//Events Calendar//EN
BEGIN:VEVENT
DTSTART:20260513T200000Z
DTEND:20260513T210000Z
SUMMARY:Origami Corner Bookmark Craft
LOCATION:Riverside Regional Library, Perryville, 800 City Park Lane, Perryville, MO
UID:29451-2026-05-13@www.semoevents.com
DESCRIPTION:Fold paper to create a pretty way to save your place as you read! For ages 5+ at the Perryville Branch.
END:VEVENT
END:VCALENDAR
