BEGIN:VCALENDAR
VERSION:2.0
METHOD:PUBLISH
PRODID:-//www.semoevents.com//Events Calendar//EN
BEGIN:VEVENT
DTSTART:20260514T190000Z
DTEND:20260514T220000Z
SUMMARY:Friends of the Library Indoor Yard Sale
LOCATION:Riverside Regional Library, 1997 E. Jackson Blvd., Jackson, MO
UID:29453-2026-05-14@www.semoevents.com
DESCRIPTION:The Friends of the Library @ Jackson Indoor Yard Sale has something for everyone: home and holiday decorations, toys, craft supplies, jewelry, books, puzzles, small appliances and so much more. Come find a treasure and support the library!! For all ages at the Main Branch, Jackson.
END:VEVENT
BEGIN:VEVENT
DTSTART:20260515T140000Z
DTEND:20260515T220000Z
SUMMARY:Friends of the Library Indoor Yard Sale
LOCATION:Riverside Regional Library, 1997 E. Jackson Blvd., Jackson, MO
UID:29453-2026-05-15@www.semoevents.com
DESCRIPTION:The Friends of the Library @ Jackson Indoor Yard Sale has something for everyone: home and holiday decorations, toys, craft supplies, jewelry, books, puzzles, small appliances and so much more. Come find a treasure and support the library!! For all ages at the Main Branch, Jackson.
END:VEVENT
BEGIN:VEVENT
DTSTART:20260516T140000Z
DTEND:20260516T170000Z
SUMMARY:Friends of the Library Indoor Yard Sale
LOCATION:Riverside Regional Library, 1997 E. Jackson Blvd., Jackson, MO
UID:29453-2026-05-16@www.semoevents.com
DESCRIPTION:The Friends of the Library @ Jackson Indoor Yard Sale has something for everyone: home and holiday decorations, toys, craft supplies, jewelry, books, puzzles, small appliances and so much more. Come find a treasure and support the library!! For all ages at the Main Branch, Jackson.
END:VEVENT
END:VCALENDAR
