BEGIN:VCALENDAR
VERSION:2.0
METHOD:PUBLISH
PRODID:-//www.semoevents.com//Events Calendar//EN
BEGIN:VEVENT
DTSTART:20260425T003000Z
DTEND:20260425T003000Z
SUMMARY:25th Anniversary Symphony
LOCATION:River Campus - Bedell Performance Hall, 518 S. Fountain St., Cape Girardeau, MO
UID:29454-2026-04-24@www.semoevents.com
DESCRIPTION:Come celebrate 25 years of the subscription series at the River Campus and the Symphony Society! Our Conductor Laureate, Sara Edgerton, returns to the podium for the performance of Beethoven’s Triple Concerto featuring pianist Emiko Edwards, our concertmaster Eva Dove, and Artistic Director and Conductor Patrick Hopkins.  Maestro Hopkins will close the season with a performance of Mahler’s monumental Symphony No. 1 “Titan”. For tickets visit: www.semo.evenue.net Discounts available.
END:VEVENT
END:VCALENDAR
